BEGIN:VCALENDAR
VERSION:2.0
PRODID:-//Islamic Finance Daily - ECPv6.15.17.1//NONSGML v1.0//EN
CALSCALE:GREGORIAN
METHOD:PUBLISH
X-ORIGINAL-URL:https://islamicfinancedaily.com
X-WR-CALDESC:Events for Islamic Finance Daily
REFRESH-INTERVAL;VALUE=DURATION:PT1H
X-Robots-Tag:noindex
X-PUBLISHED-TTL:PT1H
BEGIN:VTIMEZONE
TZID:UTC
BEGIN:STANDARD
TZOFFSETFROM:+0000
TZOFFSETTO:+0000
TZNAME:UTC
DTSTART:20250101T000000
END:STANDARD
END:VTIMEZONE
BEGIN:VEVENT
DTSTART;TZID=UTC:20260112T093000
DTEND;TZID=UTC:20260112T123000
DTSTAMP:20260421T132706
CREATED:20260106T151334Z
LAST-MODIFIED:20260106T151445Z
UID:538-1768210200-1768221000@islamicfinancedaily.com
SUMMARY:Islamic Finance And Climate Agenda
DESCRIPTION:Islamic Finance And Climate Agenda\nOVERVEIW:\nProgram Objective: \nTo introduce the joint World Bank–Islamic Development Bank report on Islamic Finance and Climate Agenda\, highlight its key findings\, and foster dialogue among policymakers\, regulators\, industry leaders\, and development partners on accelerating Islamic finance for climate action. \n Targeted Audience: \n\nSenior policymakers (Ministry of Finance\, BNM\, regulators)\nIslamic financial institutions (banks\, takaful operators\, asset managers)\nShariah advisors and governance experts\nDevelopment partners and multilateral institutions\nIndustry associations and thought leaders\nAcademia and research institutions focused on Islamic finance and sustainability\n\nDisclaimer:\nIslamic Finance Daily (IFD) strives to list authentic and up-to-date Islamic finance events by sourcing information directly from official websites\, organizers\, and public announcements. While we make reasonable efforts to verify event details at the time of publication\, IFD does not guarantee the accuracy\, completeness\, or timeliness of any event information. \nEvent details such as dates\, times\, venues\, speakers\, pricing\, or formats may change at the discretion of the event organizers without prior notice. Islamic Finance Daily is not responsible for any changes\, cancellations\, postponements\, or losses arising from reliance on the information provided. \nVisitors are strongly advised to conduct their own due diligence and confirm all details directly with the official event organizers before registering\, attending\, or making any financial commitments. \nAll event names\, logos\, banners\, and trademarks remain the property of their respective owners and are used for informational and identification purposes only. \n 
URL:https://islamicfinancedaily.com/events/islamic-finance-and-climate-agenda/
LOCATION:Sasana Kijang\, Kuala Lumpur\, KUALA LUMPUR\, Malaysia
ATTACH;FMTTYPE=image/webp:https://islamicfinancedaily.com/wp-content/uploads/2026/01/Islamic-Finance-and-Climate-Agenda.webp
END:VEVENT
END:VCALENDAR