BEGIN:VCALENDAR
VERSION:2.0
PRODID:-//Islamic Finance Daily - ECPv6.15.17.1//NONSGML v1.0//EN
CALSCALE:GREGORIAN
METHOD:PUBLISH
X-WR-CALNAME:Islamic Finance Daily
X-ORIGINAL-URL:https://islamicfinancedaily.com
X-WR-CALDESC:Events for Islamic Finance Daily
REFRESH-INTERVAL;VALUE=DURATION:PT1H
X-Robots-Tag:noindex
X-PUBLISHED-TTL:PT1H
BEGIN:VTIMEZONE
TZID:UTC
BEGIN:STANDARD
TZOFFSETFROM:+0000
TZOFFSETTO:+0000
TZNAME:UTC
DTSTART:20250101T000000
END:STANDARD
END:VTIMEZONE
BEGIN:VEVENT
DTSTART;TZID=UTC:20260119T093000
DTEND;TZID=UTC:20260120T164500
DTSTAMP:20260421T132316
CREATED:20260125T125408Z
LAST-MODIFIED:20260125T125435Z
UID:622-1768815000-1768927500@islamicfinancedaily.com
SUMMARY:6th AlBaraka Forum Regional Conference 2026
DESCRIPTION:6th AlBaraka Forum Regional Conference 2026\nThe 6th AlBaraka Forum Regional Conference – Pakistan\, themed “Islamic Economy in the Digital Age: Innovation within the Framework of Compliance”. \nAs we enter the digital age\, the Islamic economy is experiencing unprecedented transformations\, driven by technological innovations and new financial paradigms. The convergence of Islamic finance with digital technologies presents exciting  opportunities and challenges\, particularly in maintaining compliance with Shari’ah principles while embracing innovation. This conference brings together thought leaders\, scholars\, and industry experts to explore how the Islamic economy can adapt and thrive in the digital era\, ensuring that new technologies align with time-honored values of ethical finance and governance. \nPakistan\, as a leading Islamic economy in South Asia\, is at the forefront of this digital transformation. The country’s central banks\, government regulators\, and ministries are taking significant steps to regulate and integrate digital financial solutions that meet both Shari’ah based and compliance\, and modern financial regulations. It is leading the inclusive move toward a fully fledged Islamic economic system on the level of the country and its leading financial institutions. \nThis conference provides a valuable platform to explore how these stakeholders can work together to drive innovation\, ensure compliance\, and create a more inclusive and ethical financial system in Pakistan and beyond. \nDisclaimer:\nIslamic Finance Daily (IFD) strives to list authentic and up-to-date Islamic finance events by sourcing information directly from official websites\, organizers\, and public announcements. While we make reasonable efforts to verify event details at the time of publication\, IFD does not guarantee the accuracy\, completeness\, or timeliness of any event information. \nEvent details such as dates\, times\, venues\, speakers\, pricing\, or formats may change at the discretion of the event organizers without prior notice. Islamic Finance Daily is not responsible for any changes\, cancellations\, postponements\, or losses arising from reliance on the information provided. \nVisitors are strongly advised to conduct their own due diligence and confirm all details directly with the official event organizers before registering\, attending\, or making any financial commitments. \nAll event names\, logos\, banners\, and trademarks remain the property of their respective owners and are used for informational and identification purposes only.
URL:https://islamicfinancedaily.com/events/6th-albaraka-forum-regional-conference-2026/
LOCATION:Pearl Continental\, KARACHI\, Pakistan
ATTACH;FMTTYPE=image/webp:https://islamicfinancedaily.com/wp-content/uploads/2026/01/6th-AlBaraka-Forum-Regional-Conference.webp
END:VEVENT
BEGIN:VEVENT
DTSTART;TZID=UTC:20260120T090000
DTEND;TZID=UTC:20260120T170000
DTSTAMP:20260421T132316
CREATED:20260108T164517Z
LAST-MODIFIED:20260108T164517Z
UID:566-1768899600-1768928400@islamicfinancedaily.com
SUMMARY:Mastering AAOIFI Shariah Standards: GAP Analysis and Effective Implementation
DESCRIPTION:Mastering AAOIFI Shariah Standards: GAP Analysis and Effective Implementation\nThis course helps participants to: \n\nReview selected AAOIFI Shariah Standards to understand their structure\, scope\, and key requirements\nMap AAOIFI Shariah Standards to existing products\, policies\, procedures\, and documentation\nUnderstand the SBP adoption and implementation procedure for AAOIFI Shariah Standards\nConduct gap analysis and identify practical steps for effective implementation\nDesign a robust Shariah-compliant policy\, procedures\, and documentation framework\, including governance\, oversight\, and operational controls\n\nWHO SHOULD ATTEND \n\nSenior Management\nConventional/Islamic Bankers\nIslamic Bankers\nProduct Department\nCredit Administration Department\nRisk Department/Legal Counsels\nShariah Compliance Department\nInternal Shariah Audit Department\nShariah Scholars\nExternal Shariah Auditors\n\nDURATION \n\n1 Day – 8 Learning Hours\n\nDisclaimer:\nIslamic Finance Daily (IFD) strives to list authentic and up-to-date Islamic finance events by sourcing information directly from official websites\, organizers\, and public announcements. While we make reasonable efforts to verify event details at the time of publication\, IFD does not guarantee the accuracy\, completeness\, or timeliness of any event information. \nEvent details such as dates\, times\, venues\, speakers\, pricing\, or formats may change at the discretion of the event organizers without prior notice. Islamic Finance Daily is not responsible for any changes\, cancellations\, postponements\, or losses arising from reliance on the information provided. \nVisitors are strongly advised to conduct their own due diligence and confirm all details directly with the official event organizers before registering\, attending\, or making any financial commitments. \nAll event names\, logos\, banners\, and trademarks remain the property of their respective owners and are used for informational and identification purposes only. \n  \n 
URL:https://islamicfinancedaily.com/events/mastering-aaoifi-shariah-standards-gap-analysis-and-effective-implementation/
LOCATION:MOVENPICK HOTEL\, KARACHI\, KARACHI\, Pakistan
ATTACH;FMTTYPE=image/webp:https://islamicfinancedaily.com/wp-content/uploads/2026/01/Mastering-AAOIFI-Shariah-Standards-GAP-Analysis-and-Effective-Implementation.webp
END:VEVENT
END:VCALENDAR