BEGIN:VCALENDAR
VERSION:2.0
PRODID:-//Islamic Finance Daily - ECPv6.15.17.1//NONSGML v1.0//EN
CALSCALE:GREGORIAN
METHOD:PUBLISH
X-ORIGINAL-URL:https://islamicfinancedaily.com
X-WR-CALDESC:Events for Islamic Finance Daily
REFRESH-INTERVAL;VALUE=DURATION:PT1H
X-Robots-Tag:noindex
X-PUBLISHED-TTL:PT1H
BEGIN:VTIMEZONE
TZID:UTC
BEGIN:STANDARD
TZOFFSETFROM:+0000
TZOFFSETTO:+0000
TZNAME:UTC
DTSTART:20250101T000000
END:STANDARD
END:VTIMEZONE
BEGIN:VEVENT
DTSTART;TZID=UTC:20260124T090000
DTEND;TZID=UTC:20260125T170000
DTSTAMP:20260421T132901
CREATED:20260106T145026Z
LAST-MODIFIED:20260106T145415Z
UID:531-1769245200-1769360400@islamicfinancedaily.com
SUMMARY:World Islamic Economics & Finance Conference (WIEFC 2026)
DESCRIPTION:World Islamic Economics & Finance Conference (WIEFC 2026)\nConference Theme: \n“Envisioning the Next Frontier in Islamic Economics & Finance: AI Transformation and Geopolitical Realignments” \nThe 9th World Islamic Economic Forum Conference (WIEFC) 2026 invites scholars\, practitioners\, policymakers\, and students to critically evaluate the evolving trajectory of Islamic Economics and Finance in an era marked by rapid global transformation. As artificial intelligence (AI) accelerates\, geopolitical realignments intensify\, and protectionist trade policies reshape economic priorities\, financial systems\, and governance structures\, Islamic economics and finance stand at a decisive crossroads. Building upon the insights from previous WIEFC conferences (2018–2025)\, this year’s theme examines whether current theoretical and practical developments remain authentically aligned with foundational Islamic principles while adapting to modern complexities. The conference will explore how Muslim-majority countries can navigate external disruptions and internal socio-economic challenges by developing Islamic financial systems that are technologically agile\, geopolitically aware\, and ethically grounded. Key discussions will address the Islamization of national economies\, the future of the Islamic finance industry within shifting global frameworks\, and the strategic steps required to build resilient\, inclusive\, and value-driven financial architectures capable of advancing shared prosperity across the Islamic world and beyond. In particular\, the conference will address questions and topics such as: \nSub-Themes: \n\nBanking on the Future: Islamic Banking and Fintech Innovations in Global Realignment\nEthical AI Governance and Maqāṣid Integration in Islamic Economic Systems\nAI and Islamic Macroeconomics: Policy Responses to Geopolitical Realignments\nSustainable Finance: ESG-AI Convergence in Islamic Financial Instruments\nAdaptive Takaful Models: AI-Enabled Risk Management amid Geopolitical Shifts\nShaping Islamic Capital Markets with AI Analytics in a Multipolar World\n\n\n\n\n\n\n\nDisclaimer: \nIslamic Finance Daily (IFD) strives to list authentic and up-to-date Islamic finance events by sourcing information directly from official websites\, organizers\, and public announcements. While we make reasonable efforts to verify event details at the time of publication\, IFD does not guarantee the accuracy\, completeness\, or timeliness of any event information. \nEvent details such as dates\, times\, venues\, speakers\, pricing\, or formats may change at the discretion of the event organizers without prior notice. Islamic Finance Daily is not responsible for any changes\, cancellations\, postponements\, or losses arising from reliance on the information provided. \nVisitors are strongly advised to conduct their own due diligence and confirm all details directly with the official event organizers before registering\, attending\, or making any financial commitments. \nAll event names\, logos\, banners\, and trademarks remain the property of their respective owners and are used for informational and identification purposes only. \n\n\n\n\n\n\n\n\n\n 
URL:https://islamicfinancedaily.com/events/world-islamic-economics-finance-conference-wiefc-2026/
LOCATION:Minhaj University\, Lahore\, LAHORE\, Pakistan
ATTACH;FMTTYPE=image/webp:https://islamicfinancedaily.com/wp-content/uploads/2026/01/World-Islamic-Economics-Finance-Conference-WIEFC-2026.webp
END:VEVENT
END:VCALENDAR