BEGIN:VCALENDAR
VERSION:2.0
PRODID:-//Islamic Finance Daily - ECPv6.15.17.1//NONSGML v1.0//EN
CALSCALE:GREGORIAN
METHOD:PUBLISH
X-ORIGINAL-URL:https://islamicfinancedaily.com
X-WR-CALDESC:Events for Islamic Finance Daily
REFRESH-INTERVAL;VALUE=DURATION:PT1H
X-Robots-Tag:noindex
X-PUBLISHED-TTL:PT1H
BEGIN:VTIMEZONE
TZID:UTC
BEGIN:STANDARD
TZOFFSETFROM:+0000
TZOFFSETTO:+0000
TZNAME:UTC
DTSTART:20250101T000000
END:STANDARD
END:VTIMEZONE
BEGIN:VEVENT
DTSTART;TZID=UTC:20260202T080000
DTEND;TZID=UTC:20260203T170000
DTSTAMP:20260421T114153
CREATED:20260218T164142Z
LAST-MODIFIED:20260218T164142Z
UID:714-1770019200-1770138000@islamicfinancedaily.com
SUMMARY:𝐀𝐃𝐋 𝐀𝐝𝐯𝐢𝐬𝐨𝐫𝐲 𝐚𝐭 𝐭𝐡𝐞 𝟓𝐭𝐡 𝐈𝐧𝐭𝐞𝐫𝐧𝐚𝐭𝐢𝐨𝐧𝐚𝐥 𝐈𝐬𝐥𝐚𝐦𝐢𝐜 𝐅𝐢𝐧𝐚𝐧𝐜𝐞 𝐂𝐨𝐧𝐟𝐞𝐫𝐞𝐧𝐜𝐞 𝟐𝟎𝟐𝟔
DESCRIPTION:𝐀𝐃𝐋 𝐀𝐝𝐯𝐢𝐬𝐨𝐫𝐲 𝐚𝐭 𝐭𝐡𝐞 𝟓𝐭𝐡 𝐈𝐧𝐭𝐞𝐫𝐧𝐚𝐭𝐢𝐨𝐧𝐚𝐥 𝐈𝐬𝐥𝐚𝐦𝐢𝐜 𝐅𝐢𝐧𝐚𝐧𝐜𝐞 𝐂𝐨𝐧𝐟𝐞𝐫𝐞𝐧𝐜𝐞 𝟐𝟎𝟐𝟔\nAlhamdulillah\, we are delighted to share that Dr (Mufti) Yousuf Sultan\, Founder & CEO of Adl Advisory\, will be attending the 𝟓𝐭𝐡 𝐈𝐧𝐭𝐞𝐫𝐧𝐚𝐭𝐢𝐨𝐧𝐚𝐥 𝐈𝐬𝐥𝐚𝐦𝐢𝐜 𝐅𝐢𝐧𝐚𝐧𝐜𝐞 𝐂𝐨𝐧𝐟𝐞𝐫𝐞𝐧𝐜𝐞 (𝐈𝐈𝐅𝐂)\, themed “𝐏𝐡𝐢𝐥𝐢𝐩𝐩𝐢𝐧𝐞𝐬 𝐚𝐬 𝐚 𝐑𝐢𝐬𝐢𝐧𝐠 𝐇𝐮𝐛: 𝐒𝐭𝐫𝐞𝐧𝐠𝐭𝐡𝐞𝐧𝐢𝐧𝐠 𝐭𝐡𝐞 𝐈𝐬𝐥𝐚𝐦𝐢𝐜 𝐅𝐢𝐧𝐚𝐧𝐜𝐞 𝐄𝐜𝐨𝐬𝐲𝐬𝐭𝐞𝐦 𝐟𝐨𝐫 𝐀𝐒𝐄𝐀𝐍 𝐈𝐧𝐭𝐞𝐠𝐫𝐚𝐭𝐢𝐨𝐧 𝐚𝐧𝐝 𝐈𝐧𝐜𝐥𝐮𝐬𝐢𝐯𝐞 𝐆𝐫𝐨𝐰𝐭𝐡.” \nThe prestigious conference will be held at Bonifacio Global City\, Philippines\, from 1–3 February 2026\, bringing together global policymakers\, regulators\, scholars\, industry leaders\, and development partners to advance the Islamic finance ecosystem. \nDr. Mufti Yousuf will be joining as an esteemed presenter on 𝐃𝐚𝐲 𝟑\, 𝐒𝐞𝐬𝐬𝐢𝐨𝐧 𝟕\, titled: “𝐀𝐝𝐯𝐚𝐧𝐜𝐢𝐧𝐠 𝐭𝐡𝐞 𝐃𝐢𝐠𝐢𝐭𝐚𝐥 𝐈𝐬𝐥𝐚𝐦𝐢𝐜 𝐅𝐢𝐧𝐚𝐧𝐜𝐞 𝐄𝐜𝐨𝐬𝐲𝐬𝐭𝐞𝐦: 𝐓𝐨𝐤𝐞𝐧𝐢𝐳𝐚𝐭𝐢𝐨𝐧\, 𝐅𝐢𝐧𝐭𝐞𝐜𝐡 𝐈𝐧𝐧𝐨𝐯𝐚𝐭𝐢𝐨𝐧\, 𝐚𝐧𝐝 𝐂𝐲𝐛𝐞𝐫𝐬𝐞𝐜𝐮𝐫𝐢𝐭𝐲 𝐟𝐨𝐫 𝐈𝐧𝐜𝐥𝐮𝐬𝐢𝐯𝐞 𝐆𝐫𝐨𝐰𝐭𝐡.” \nThis participation reflects Adl Advisory’s continued commitment to promoting Shariah-compliant finance\, digital innovation\, and inclusive economic growth\, while contributing to meaningful dialogue on strengthening Islamic finance across ASEAN and beyond. \nWe look forward to engaging in insightful discussions and collaborative efforts at this important global forum\, insha’Allah. \nDisclaimer:\nIslamic Finance Daily (IFD) strives to list authentic and up-to-date Islamic finance events by sourcing information directly from official websites\, organizers\, and public announcements. While we make reasonable efforts to verify event details at the time of publication\, IFD does not guarantee the accuracy\, completeness\, or timeliness of any event information. \nEvent details such as dates\, times\, venues\, speakers\, pricing\, or formats may change at the discretion of the event organizers without prior notice. Islamic Finance Daily is not responsible for any changes\, cancellations\, postponements\, or losses arising from reliance on the information provided. \nVisitors are strongly advised to conduct their own due diligence and confirm all details directly with the official event organizers before registering\, attending\, or making any financial commitments. \nAll event names\, logos\, banners\, and trademarks remain the property of their respective owners and are used for informational and identification purposes only.
URL:https://islamicfinancedaily.com/events/%f0%9d%90%80%f0%9d%90%83%f0%9d%90%8b-%f0%9d%90%80%f0%9d%90%9d%f0%9d%90%af%f0%9d%90%a2%f0%9d%90%ac%f0%9d%90%a8%f0%9d%90%ab%f0%9d%90%b2-%f0%9d%90%9a%f0%9d%90%ad-%f0%9d%90%ad%f0%9d%90%a1%f0%9d%90%9e/
LOCATION:SHANGRI-LA THE FORT\, BONIFACIO GLOBAL CITY\, PHILIPPINES
ATTACH;FMTTYPE=image/webp:https://islamicfinancedaily.com/wp-content/uploads/2026/02/𝐀𝐃𝐋-𝐀𝐝𝐯𝐢𝐬𝐨𝐫𝐲-𝐚𝐭-𝐭𝐡𝐞-𝟓𝐭𝐡-𝐈𝐧𝐭�.webp
END:VEVENT
BEGIN:VEVENT
DTSTART;TZID=UTC:20260202T080000
DTEND;TZID=UTC:20260204T193000
DTSTAMP:20260421T114153
CREATED:20260106T162247Z
LAST-MODIFIED:20260106T164401Z
UID:545-1770019200-1770233400@islamicfinancedaily.com
SUMMARY:Islamic Finance for the Future: Breaking New Ground For Global Impact
DESCRIPTION:Islamic Finance for the Future: Breaking New Ground For Global Impact\nThe 17th IFSB Summit returns this February 2026! Set in Muscat\, Oman\, hosted by the Central Bank of Oman\, the three-day programme (including a full pre-summit day) brings together the sector’s most influential voices to explore how Islamic finance can lead in this era of fast-changing economic\, innovations and serving broader societal needs. \nDelegates can look forward to a thought-provoking Summit that advances conversations on economic disruptions\, the strengthening of non-bank financial institutions\, and the deepening of the Sukuk market. The Summit invites participants to move beyond technical debate and engage in dialogue on inclusion\, social impact and climate action\, areas where the values-based nature of Islamic finance can deliver meaningful change. \nJoin over 50+ speakers and 400 delegates to assess emerging opportunities and to help shape a financial landscape that is more resilient\, inclusive and sustainable. See you in Muscat in 2026! \nDisclaimer:\nIslamic Finance Daily (IFD) strives to list authentic and up-to-date Islamic finance events by sourcing information directly from official websites\, organizers\, and public announcements. While we make reasonable efforts to verify event details at the time of publication\, IFD does not guarantee the accuracy\, completeness\, or timeliness of any event information. \nEvent details such as dates\, times\, venues\, speakers\, pricing\, or formats may change at the discretion of the event organizers without prior notice. Islamic Finance Daily is not responsible for any changes\, cancellations\, postponements\, or losses arising from reliance on the information provided. \nVisitors are strongly advised to conduct their own due diligence and confirm all details directly with the official event organizers before registering\, attending\, or making any financial commitments. \nAll event names\, logos\, banners\, and trademarks remain the property of their respective owners and are used for informational and identification purposes only.
URL:https://islamicfinancedaily.com/events/islamic-finance-for-the-future-breaking-new-ground-for-global-impact/
LOCATION:The St. Regis Al Mouj Muscat Resort\, MUSCAT\, Oman
ATTACH;FMTTYPE=image/webp:https://islamicfinancedaily.com/wp-content/uploads/2026/01/17th-IFSB-Summit.webp
END:VEVENT
END:VCALENDAR