BEGIN:VCALENDAR
VERSION:2.0
PRODID:-//Islamic Finance Daily - ECPv6.15.17.1//NONSGML v1.0//EN
CALSCALE:GREGORIAN
METHOD:PUBLISH
X-WR-CALNAME:Islamic Finance Daily
X-ORIGINAL-URL:https://islamicfinancedaily.com
X-WR-CALDESC:Events for Islamic Finance Daily
REFRESH-INTERVAL;VALUE=DURATION:PT1H
X-Robots-Tag:noindex
X-PUBLISHED-TTL:PT1H
BEGIN:VTIMEZONE
TZID:UTC
BEGIN:STANDARD
TZOFFSETFROM:+0000
TZOFFSETTO:+0000
TZNAME:UTC
DTSTART:20180101T000000
END:STANDARD
END:VTIMEZONE
BEGIN:VEVENT
DTSTART;TZID=UTC:20191105T080000
DTEND;TZID=UTC:20191106T170000
DTSTAMP:20260421T181425
CREATED:20260125T113717Z
LAST-MODIFIED:20260125T113717Z
UID:618-1572940800-1573059600@islamicfinancedaily.com
SUMMARY:AAOIFI – World Bank 12th Annual Conference 2017
DESCRIPTION:AAOIFI – World Bank 12th Annual Conference 2017\nTowards Qualitative growth and standardization of Islamic Finance  \n5-6 November 2017\, Diplomat Hotel\, Manama\, Kingdom of Bahrain\nSelf-evident is the high and rapidly increasing growth rate of the Islamic finance industry\, in terms of asset base\, scope of financing\, and diversity of products as well as geographic spread across Islamic countries and other countries\, in addition to the its sophisticated infrastructure and relevant regulations and regimes. All these manifestations have become irrefutably solid facts and realities. In the midst of accompanying jubilation and elation\, the current stage would require an increased emphasis on the “qualitative” development of the Islamic finance industry\, as might be reflected in its products’ compliance with Shari’ah and its supreme objectives (Maqasid) and noble cause\, and a further level of governance and transparency. The industry needs to be further elevated\, professionally and institutionally\, at the international level\, through the development of more professional standards to govern and regulate all its activities and areas of interest and enhance the levels of global adoption and recognition.\nIn this regard\, the 12th  edition of AAOIFI-World Bank Conference sheds light on this particular potential from different angles through the lenses of a host of leading experts and scholars\, representatives of central banks and regulatory and supervisory authorities\, and practitioners.\nDisclaimer:\nIslamic Finance Daily (IFD) strives to list authentic and up-to-date Islamic finance events by sourcing information directly from official websites\, organizers\, and public announcements. While we make reasonable efforts to verify event details at the time of publication\, IFD does not guarantee the accuracy\, completeness\, or timeliness of any event information. \nEvent details such as dates\, times\, venues\, speakers\, pricing\, or formats may change at the discretion of the event organizers without prior notice. Islamic Finance Daily is not responsible for any changes\, cancellations\, postponements\, or losses arising from reliance on the information provided. \nVisitors are strongly advised to conduct their own due diligence and confirm all details directly with the official event organizers before registering\, attending\, or making any financial commitments. \nAll event names\, logos\, banners\, and trademarks remain the property of their respective owners and are used for informational and identification purposes only. \n 
URL:https://islamicfinancedaily.com/events/aaoifi-world-bank-12th-annual-conference-2017/
LOCATION:Diplomat Hotel\, Manama\, Bahrain
ATTACH;FMTTYPE=image/webp:https://islamicfinancedaily.com/wp-content/uploads/2026/01/AAOIFI-–-World-Bank-12th-Annual-Conference.webp
END:VEVENT
BEGIN:VEVENT
DTSTART;TZID=UTC:20191103T080000
DTEND;TZID=UTC:20191104T193000
DTSTAMP:20260421T181425
CREATED:20260125T103541Z
LAST-MODIFIED:20260125T103541Z
UID:614-1572768000-1572895800@islamicfinancedaily.com
SUMMARY:AAOIFI-World Bank Annual Islamic Banking and Finance Conference 2019\, Edition 14
DESCRIPTION:AAOIFI-World Bank Annual Islamic Banking and Finance Conference 2019\, Edition 14\nThe global financial industry has witnessed fluctuations and changes post the financial crisis which\nhit the world economies over a decade ago. The stability and growth of the industry has been affected\nby various factors and many practitioners are of the view that there is a dire need for more effective\nregulations\, prudential rules\, and stricter polices to safeguard the industry from another turmoil.\nThe recent developments in FinTech\, including but not limited to cryptocurrencies\, blockchain\ntechnology\, smart contracts\, crowd-funding and artificial intelligence introduce new risks to the whole\nindustry. While the benefits of cost saving and efficiency appeal to many market players and new entrants\nalike\, these technologies require effective mechanisms to govern their applications.\nWhile the Islamic finance industry is keen to keep pace with the recent developments\, additional layers\nof challenges and obstacles exist in terms of Shari’ah and governance. The question is how can the players\ntake the industry to the next level of development and growth without risking its stability in this dynamic\nage?\nIn this regard\, the 14th edition of AAOIFI-World Bank Conference sheds light on the need for regulations\,\ngovernance and standardization in the industry from different angles through the lenses of a host of\nleading experts and scholars\, representatives of central banks and regulatory and supervisory authorities\,\nand practitioners. \nAAOIFI-World Bank 14th Annual Islamic Banking and Finance Conference is one of AAOIFI’s flagship conferences. It discusses this year\, through six sessions\, an array of issues and developments related to the broader Islamic finance industry\, including applications pertaining to international Islamic finance products\, services and practices as well as continuing innovation in Islamic finance to further support growth and expansion of the industry across the world and to maintain its authenticity and Shari’ah compliance. Participants at the conference comprise a large number of experts\, scholars and senior representatives from central banks\, regulatory authorities\, financial institutions\, accounting and auditing firms\, legal firms\, universities\, higher education institutions\, and the media\, from the Middle East\, Africa\, Asia\, Europe and North America. \nDisclaimer:\nIslamic Finance Daily (IFD) strives to list authentic and up-to-date Islamic finance events by sourcing information directly from official websites\, organizers\, and public announcements. While we make reasonable efforts to verify event details at the time of publication\, IFD does not guarantee the accuracy\, completeness\, or timeliness of any event information. \nEvent details such as dates\, times\, venues\, speakers\, pricing\, or formats may change at the discretion of the event organizers without prior notice. Islamic Finance Daily is not responsible for any changes\, cancellations\, postponements\, or losses arising from reliance on the information provided. \nVisitors are strongly advised to conduct their own due diligence and confirm all details directly with the official event organizers before registering\, attending\, or making any financial commitments. \nAll event names\, logos\, banners\, and trademarks remain the property of their respective owners and are used for informational and identification purposes only.
URL:https://islamicfinancedaily.com/events/aaoifi-world-bank-annual-islamic-banking-and-finance-conference-2019-edition-14/
LOCATION:Gulf Hotel\, Manama\, Bahrain
ATTACH;FMTTYPE=image/webp:https://islamicfinancedaily.com/wp-content/uploads/2026/01/AAOIFI-World-Bank-Annual-Islamic-Banking-and-Finance-Conference.webp
END:VEVENT
END:VCALENDAR