BEGIN:VCALENDAR
VERSION:2.0
PRODID:-//Islamic Finance Daily - ECPv6.15.17.1//NONSGML v1.0//EN
CALSCALE:GREGORIAN
METHOD:PUBLISH
X-WR-CALNAME:Islamic Finance Daily
X-ORIGINAL-URL:https://islamicfinancedaily.com
X-WR-CALDESC:Events for Islamic Finance Daily
REFRESH-INTERVAL;VALUE=DURATION:PT1H
X-Robots-Tag:noindex
X-PUBLISHED-TTL:PT1H
BEGIN:VTIMEZONE
TZID:UTC
BEGIN:STANDARD
TZOFFSETFROM:+0000
TZOFFSETTO:+0000
TZNAME:UTC
DTSTART:20250101T000000
END:STANDARD
END:VTIMEZONE
BEGIN:VEVENT
DTSTART;TZID=UTC:20260205T130000
DTEND;TZID=UTC:20260205T140000
DTSTAMP:20260422T215032
CREATED:20260216T175142Z
LAST-MODIFIED:20260216T175857Z
UID:702-1770296400-1770300000@islamicfinancedaily.com
SUMMARY:Code of Ethics in Islamic Finance
DESCRIPTION:Code of Ethics in Islamic Finance 2026\nJoin us for an insightful free webinar on the Code of Ethics in Islamic Finance\, hosted by Noor Shariah Solutions\, a group entity of AJMS Global. \nThis session will explore the core principles of integrity\, transparency\, social responsibility\, and professional conduct that define ethical practices in Islamic Finance. \n𝗦𝗽𝗲𝗮𝗸𝗲𝗿𝘀\nDr. Christian Chalid Hainsch – Theologian & Economist\nDr. Uzair Asharaf Usmani – Shariah Scholar \n𝗪𝗵𝗮𝘁 𝘄𝗲 𝘄𝗶𝗹𝗹 𝗰𝗼𝘃𝗲𝗿\n✔ Importance of ethics in Islamic Finance\n✔ Adherence to Shariah principles\n✔ Social responsibilities & professional competency \n📆 Thursday\, 5 February\n🕐 1:00 PM – 2:00 PM (UAE Time)\n📍 Online | Zoom \nWe invite professionals\, students\, and stakeholders to be part of this meaningful discussion. \nDr. Abhishek Jajoo Dr. Uzair Usmani – CSAA \, PHD Rizwan khan Dr. Christian Chalid Hainsch Usama Ehsan Alok Bishnoi P Satish Menon Rami J. Al Qadi Vivek Mundhra Sailab Sahak \n\n\n\n\n\n\n\n\n\n\n\n\n\n\n\n\n\n\n\n\n\n\n\n\n\n\n\n\n\n\n\nDisclaimer:\nIslamic Finance Daily (IFD) strives to list authentic and up-to-date Islamic finance events by sourcing information directly from official websites\, organizers\, and public announcements. While we make reasonable efforts to verify event details at the time of publication\, IFD does not guarantee the accuracy\, completeness\, or timeliness of any event information. \nEvent details such as dates\, times\, venues\, speakers\, pricing\, or formats may change at the discretion of the event organizers without prior notice. Islamic Finance Daily is not responsible for any changes\, cancellations\, postponements\, or losses arising from reliance on the information provided. \nVisitors are strongly advised to conduct their own due diligence and confirm all details directly with the official event organizers before registering\, attending\, or making any financial commitments. \nAll event names\, logos\, banners\, and trademarks remain the property of their respective owners and are used for informational and identification purposes only.
URL:https://islamicfinancedaily.com/events/code-of-ethics-in-islamic-finance/
LOCATION:ONLINE WEBINAR
ATTACH;FMTTYPE=image/webp:https://islamicfinancedaily.com/wp-content/uploads/2026/02/Code-of-Ethics-in-Islamic-Finance-Islamic-Fainance-Daily.webp
END:VEVENT
BEGIN:VEVENT
DTSTART;TZID=UTC:20260206T080000
DTEND;TZID=UTC:20260206T143000
DTSTAMP:20260422T215032
CREATED:20260217T164100Z
LAST-MODIFIED:20260217T164307Z
UID:710-1770364800-1770388200@islamicfinancedaily.com
SUMMARY:ICONEDS 2026 International Conference on Economics\, Development and Sustainability
DESCRIPTION:ICONEDS 2026\nInternational Conference on Economics\, Development and Sustainability\n📢 INTERNATIONAL CONFERENCE ANNOUNCEMENT \n🌍 ICONEDS 2026\nInternational Conference on Economics\, Development and Sustainability \nTheme:\nPromoting Sustainability and Entrepreneurial Pathways under Global Uncertainty towards Inclusive and Resilient Economic Development \n🗓 Date & Time\nFriday\, February 6\, 2026\n⏰ 08:00 AM – 02:30 PM (Jakarta Time GMT+7)\n📍 Online via Zoom\n💸 FREE Registration + E-Certificate \n🎯 Target Participant:\nAcademicians\, Regulators\, Practitioners\, Researchers\, and\nBachelor’s\, Master’s\, and Ph.D. Students \n📝 Registration Link:\n👉 https://lnkd.in/gwQEeUvd \n🔗 Zoom Meeting Link:\nhttps://lnkd.in/g7VeMrCm \n🆔 Meeting ID: 894 0934 9423\n🔑 Passcode: ICONEDS26 \n📌 We cordially invite you to participate in this international academic forum.\nPlease register and join the conference on time. Thank you. \nDisclaimer:\nIslamic Finance Daily (IFD) strives to list authentic and up-to-date Islamic finance events by sourcing information directly from official websites\, organizers\, and public announcements. While we make reasonable efforts to verify event details at the time of publication\, IFD does not guarantee the accuracy\, completeness\, or timeliness of any event information. \nEvent details such as dates\, times\, venues\, speakers\, pricing\, or formats may change at the discretion of the event organizers without prior notice. Islamic Finance Daily is not responsible for any changes\, cancellations\, postponements\, or losses arising from reliance on the information provided. \nVisitors are strongly advised to conduct their own due diligence and confirm all details directly with the official event organizers before registering\, attending\, or making any financial commitments. \nAll event names\, logos\, banners\, and trademarks remain the property of their respective owners and are used for informational and identification purposes only.
URL:https://islamicfinancedaily.com/events/iconeds-2026-international-conference-on-economics-development-and-sustainability/
LOCATION:Held Virtually
ATTACH;FMTTYPE=image/png:https://islamicfinancedaily.com/wp-content/uploads/2026/02/ICEONEDS-2026.png
END:VEVENT
BEGIN:VEVENT
DTSTART;TZID=UTC:20260214T080000
DTEND;TZID=UTC:20260216T170000
DTSTAMP:20260422T215032
CREATED:20260211T172839Z
LAST-MODIFIED:20260211T175048Z
UID:668-1771056000-1771261200@islamicfinancedaily.com
SUMMARY:The Islamic Chamber of Commerce and Development (ICCD)
DESCRIPTION:The Islamic Chamber of Commerce and Development (ICCD)\nMakkah Halal Forum 2026\nThemed “Halal: A Professional Industry”\, the third edition of Makkah Halal Forum provides an international platform to build a reliable\, transparent halal system free from irregular practices\, excluding anything that is unprofessional\, and promoting the adoption of best global practices while enhancing trust in halal products and services worldwide. \nJoin us to discover how Makkah Halal Forum 2026 is redefining the Halal market as a thriving professional industry. \nFrom the Holy City\, Makkah\, where heritage meets excellence\, we proudly announce the launch of the third edition of the Makkah Halal Forum 2026. As an international platform that does not merely follow change but actively shapes it we bring together industry leaders and decision-makers from across continents to advance Halal as a professional industry through clear standards\, innovative governance\, and groundbreaking solutions that transcend borders. \nBe at the center of the event where the future of the global Halal economy is defined. \n\n\n\n\n\n\n\n\n\n\n\n\n\n\n\n\n\n\n\n\n\n\n\n\n\n\n\n\n\n\n\nDisclaimer:\nIslamic Finance Daily (IFD) strives to list authentic and up-to-date Islamic finance events by sourcing information directly from official websites\, organizers\, and public announcements. While we make reasonable efforts to verify event details at the time of publication\, IFD does not guarantee the accuracy\, completeness\, or timeliness of any event information. \nEvent details such as dates\, times\, venues\, speakers\, pricing\, or formats may change at the discretion of the event organizers without prior notice. Islamic Finance Daily is not responsible for any changes\, cancellations\, postponements\, or losses arising from reliance on the information provided. \nVisitors are strongly advised to conduct their own due diligence and confirm all details directly with the official event organizers before registering\, attending\, or making any financial commitments. \nAll event names\, logos\, banners\, and trademarks remain the property of their respective owners and are used for informational and identification purposes only.
URL:https://islamicfinancedaily.com/events/the-islamic-chamber-of-commerce-and-development-iccd/
ATTACH;FMTTYPE=image/webp:https://islamicfinancedaily.com/wp-content/uploads/2026/02/makkah-halal-forum-islamic-finance-daily.webp
END:VEVENT
BEGIN:VEVENT
DTSTART;TZID=UTC:20260214T183000
DTEND;TZID=UTC:20260214T200000
DTSTAMP:20260422T215032
CREATED:20260216T173816Z
LAST-MODIFIED:20260216T173817Z
UID:697-1771093800-1771099200@islamicfinancedaily.com
SUMMARY:“Islamic Finance and Investment – The Foundation of Global Professionalism in the Halal Industry”.
DESCRIPTION:“Islamic Finance and Investment – The Foundation of Global Professionalism in the Halal Industry”.\nExplore various financial technicalities\, including financial governance\, sustainable finance\, cross-border partnerships\, and banking innovation\, in our session titled “Islamic Finance and Investment – The Foundation of Global Professionalism in the Halal Industry”.\nSpeakers\nHis Eminence Shaikh Yasser Abdulaziz Al-Murshidi – Head of Sharia Compliance and Secretary General of the Sharia Committee at Al-Inmaa Bank\nMr. Khurram Hilal – Chief Executive Officer Islamic Banking at Standard Chartered Bank\nDr. Muawiya Al-Qawasmi: Director of Corporate and Project Management at the Arab Islamic Bank \nModerator\nMr. Ibrahim El-Sayed – International Relations and Business Development Manager at Albaraka Forum for Islamic Economy \nJoin the forum and get a clear and comprehensive understanding of the financial side of halal businesses. \nDisclaimer:\nIslamic Finance Daily (IFD) strives to list authentic and up-to-date Islamic finance events by sourcing information directly from official websites\, organizers\, and public announcements. While we make reasonable efforts to verify event details at the time of publication\, IFD does not guarantee the accuracy\, completeness\, or timeliness of any event information. \nEvent details such as dates\, times\, venues\, speakers\, pricing\, or formats may change at the discretion of the event organizers without prior notice. Islamic Finance Daily is not responsible for any changes\, cancellations\, postponements\, or losses arising from reliance on the information provided. \nVisitors are strongly advised to conduct their own due diligence and confirm all details directly with the official event organizers before registering\, attending\, or making any financial commitments. \nAll event names\, logos\, banners\, and trademarks remain the property of their respective owners and are used for informational and identification purposes only.
URL:https://islamicfinancedaily.com/events/islamic-finance-and-investment-the-foundation-of-global-professionalism-in-the-halal-industry/
LOCATION:MAKKAH CHAMBER FOR EXHIBITION AND EVENTS CENTER
ATTACH;FMTTYPE=image/webp:https://islamicfinancedaily.com/wp-content/uploads/2026/02/Islamic-Finance-and-Investment-Islamic-fainance-daily.webp
END:VEVENT
BEGIN:VEVENT
DTSTART;TZID=UTC:20260222T150000
DTEND;TZID=UTC:20260222T150000
DTSTAMP:20260422T215032
CREATED:20260217T160424Z
LAST-MODIFIED:20260217T160424Z
UID:706-1771772400-1771772400@islamicfinancedaily.com
SUMMARY:ISLAMIC FINANCE MYTHS:
DESCRIPTION:ISLAMIC FINANCE MYTHS:\nSharia Labs Ramadan Series \nWe begin our Ramadan Series with an important conversation on Islamic finance beyond assumptions\, beyond labels. \nThis first session brings together respected voices to unpack what truly defines Sharia-compliant finance\, where misconceptions arise\, and why clarity matters for the future of ethical financial systems. \nRamadan is a season of reflection — and also of reform. We look forward to a discussion that is principled\, practical\, and necessary. \n\n \nRegister Here: https://luma.com/9z81kq40 \nDisclaimer:\n\n\nIslamic Finance Daily (IFD) strives to list authentic and up-to-date Islamic finance events by sourcing information directly from official websites\, organizers\, and public announcements. While we make reasonable efforts to verify event details at the time of publication\, IFD does not guarantee the accuracy\, completeness\, or timeliness of any event information. \nEvent details such as dates\, times\, venues\, speakers\, pricing\, or formats may change at the discretion of the event organizers without prior notice. Islamic Finance Daily is not responsible for any changes\, cancellations\, postponements\, or losses arising from reliance on the information provided. \nVisitors are strongly advised to conduct their own due diligence and confirm all details directly with the official event organizers before registering\, attending\, or making any financial commitments. \nAll event names\, logos\, banners\, and trademarks remain the property of their respective owners and are used for informational and identification purposes only.
URL:https://islamicfinancedaily.com/events/islamic-finance-myths/
LOCATION:Held Virtually
ATTACH;FMTTYPE=image/webp:https://islamicfinancedaily.com/wp-content/uploads/2026/02/ISLAMIC-FINANCE-MYTHS-ISLAMIC-FINANCE-DAILY.webp
END:VEVENT
BEGIN:VEVENT
DTSTART;TZID=UTC:20260414T080000
DTEND;TZID=UTC:20260414T170000
DTSTAMP:20260422T215032
CREATED:20260218T170242Z
LAST-MODIFIED:20260218T170258Z
UID:719-1776153600-1776186000@islamicfinancedaily.com
SUMMARY:12th Doha Islamic Finance Conference 2026
DESCRIPTION:12th Doha Islamic Finance Conference 2026\nIslamic Finance in the Age of Agentic Systems\nA leading intellectual platform exploring the future of Islamic finance amid rapid technological transformation. The conference will address key themes including Islamic financial institutions and agentic systems\, the evolution of waqf\, virtual influencers and Islamic finance\, and zakat and development in AI-driven environments. \n📅 14 April 2026\n📍 Sheraton Doha – Al Majlis Hall\nWhere values\, innovation\, and future-ready thinking converge. \nDisclaimer:\nIslamic Finance Daily (IFD) strives to list authentic and up-to-date Islamic finance events by sourcing information directly from official websites\, organizers\, and public announcements. While we make reasonable efforts to verify event details at the time of publication\, IFD does not guarantee the accuracy\, completeness\, or timeliness of any event information. \nEvent details such as dates\, times\, venues\, speakers\, pricing\, or formats may change at the discretion of the event organizers without prior notice. Islamic Finance Daily is not responsible for any changes\, cancellations\, postponements\, or losses arising from reliance on the information provided. \nVisitors are strongly advised to conduct their own due diligence and confirm all details directly with the official event organizers before registering\, attending\, or making any financial commitments. \nAll event names\, logos\, banners\, and trademarks remain the property of their respective owners and are used for informational and identification purposes only.
URL:https://islamicfinancedaily.com/events/12th-doha-islamic-finance-conference-2026/
LOCATION:Sheraton Doha – Al Majlis Hall
ATTACH;FMTTYPE=image/webp:https://islamicfinancedaily.com/wp-content/uploads/2026/02/12th-Doha-Islamic-Finance-Conference-Islamic-finance-daily.webp
END:VEVENT
BEGIN:VEVENT
DTSTART;TZID=UTC:20260521T083000
DTEND;TZID=UTC:20260522T200000
DTSTAMP:20260422T215032
CREATED:20260107T134309Z
LAST-MODIFIED:20260107T134356Z
UID:559-1779352200-1779480000@islamicfinancedaily.com
SUMMARY:International Islamic Economics and Finance Conference for Sustainable Development
DESCRIPTION:International Islamic Economics and Finance Conference for Sustainable Development\nThe International Islamic Economics and Finance Conference for Sustainable Development (IFESDC) is a pioneering annual gathering of academics\, industry experts\, policymakers\, and practitioners dedicated to advancing sustainable development through the principles of Islamic economics and finance. \nAs the first-ever conference of its kind in the United States\, IFESDC represents a groundbreaking initiative to bring Islamic finance and economics to the forefront of discussions on global poverty eradication\, inclusive economic growth\, and sustainable development. \nTaking place at Preston Auditorium\, the World Bank HQ\, Washington\, DC\, USA\, on Wed\, May 21st & Thu\, May 22nd\, 2025\, the conference provides a unique platform for thought leaders to share research\, explore innovative solutions\, and foster dialogue on the transformative potential of Islamic finance\, the halal industry\, and ethical economic practices. \nOBJECTIVES\nA. Highlight Innovations: Showcase cutting-edge research and programmatic innovations in\nIslamic economics and finance from leading universities in the USA\, Indonesia\, and around\nthe world for sustainable development;\nB. Share Best Practices: Discuss industrial and academic best practices from development\nprojects in East Asia Pacific (EAP) and its linking to the Islamic economics and finance\nresearch\, innovations\, and implementation;\nC. Identify Areas for Collaboration: Determine common focus areas for collaborative\ninitiatives and the potential for mutual recognition of academic research in Islamic\neconomics and finance including halal/ethical industry and their contribution to sustainable\neconomic development. \nDisclaimer:\nIslamic Finance Daily (IFD) strives to list authentic and up-to-date Islamic finance events by sourcing information directly from official websites\, organizers\, and public announcements. While we make reasonable efforts to verify event details at the time of publication\, IFD does not guarantee the accuracy\, completeness\, or timeliness of any event information. \nEvent details such as dates\, times\, venues\, speakers\, pricing\, or formats may change at the discretion of the event organizers without prior notice. Islamic Finance Daily is not responsible for any changes\, cancellations\, postponements\, or losses arising from reliance on the information provided. \nVisitors are strongly advised to conduct their own due diligence and confirm all details directly with the official event organizers before registering\, attending\, or making any financial commitments. \nAll event names\, logos\, banners\, and trademarks remain the property of their respective owners and are used for informational and identification purposes only. \n 
URL:https://islamicfinancedaily.com/events/international-islamic-economics-and-finance-conference-for-sustainable-development/
LOCATION:The World Bank HQ\, Washington DC\, USA\, Washington DC\, United States
ATTACH;FMTTYPE=image/webp:https://islamicfinancedaily.com/wp-content/uploads/2026/01/International-Islamic-Economics-and-Finance-Conference-for-Sustainable-Development.webp
END:VEVENT
BEGIN:VEVENT
DTSTART;TZID=UTC:20260622T080000
DTEND;TZID=UTC:20260622T170000
DTSTAMP:20260422T215032
CREATED:20260108T165529Z
LAST-MODIFIED:20260108T165529Z
UID:571-1782115200-1782147600@islamicfinancedaily.com
SUMMARY:Global Islamic Finance Summit 2026
DESCRIPTION:Global Islamic Finance Summit 2026\nAre you active in Islamic Finance? Do you want to expand your business in this space?\nAs the industry surpasses USD 1 trillion in outstanding sukuk and USD 4-5 trillion in total Islamic finance assets\, the conversation is shifting from growth to globalisation. \nWith Islamic finance moving towards becoming a mainstream asset class\, market participants face new questions around standardisation\, liquidity\, secondary market depth and cross-border participations \nThe Global Islamic Finance Summit will discuss the practical realities of scaling Islamic finance from a specialised segment\, offering a forward-looking forum to understanding where the industry is heading. It brings together Islamic banks\, Shariah-compliant divisions of traditional banks\, investment funds\, takaful companies\, regulatory bodies\, sovereign wealth funds and governments. Here\, they can network\, explore investment opportunities\, discuss product and regulatory developments\, address industry challenges\, share best practices and advance Islamic finance’s integration into global markets. \nDisclaimer:\nIslamic Finance Daily (IFD) strives to list authentic and up-to-date Islamic finance events by sourcing information directly from official websites\, organizers\, and public announcements. While we make reasonable efforts to verify event details at the time of publication\, IFD does not guarantee the accuracy\, completeness\, or timeliness of any event information. \nEvent details such as dates\, times\, venues\, speakers\, pricing\, or formats may change at the discretion of the event organizers without prior notice. Islamic Finance Daily is not responsible for any changes\, cancellations\, postponements\, or losses arising from reliance on the information provided. \nVisitors are strongly advised to conduct their own due diligence and confirm all details directly with the official event organizers before registering\, attending\, or making any financial commitments. \nAll event names\, logos\, banners\, and trademarks remain the property of their respective owners and are used for informational and identification purposes only.
URL:https://islamicfinancedaily.com/events/global-islamic-finance-summit-2026/
LOCATION:Madinat Jumeirah Conference & Events Centre\, Dubai\, Dubai\, United Arab Emirates
ATTACH;FMTTYPE=image/webp:https://islamicfinancedaily.com/wp-content/uploads/2026/01/Global-Islamic-Finance-Summit-2026.webp
END:VEVENT
BEGIN:VEVENT
DTSTART;TZID=UTC:20261028T090500
DTEND;TZID=UTC:20261028T144000
DTSTAMP:20260422T215032
CREATED:20260108T170520Z
LAST-MODIFIED:20260108T170617Z
UID:576-1793178300-1793198400@islamicfinancedaily.com
SUMMARY:IFN Pakistan Forum 2026
DESCRIPTION:IFN Pakistan Forum 2026\nIntroduction to 2026\nPakistan is attempting something rarely succeeded by others – it wants its financial system to be fully Shariah compliant by 2028. If anyone were to succeed\, it would likely be Pakistan – the government and regulators are moving full steam ahead to achieve this herculean task.\n\n\nThe State Bank of Pakistan and the Securities and Exchange Commission of Pakistan are preparing the regulatory foundation for this major transformation while financial institutions are overhauling their business models. This has led to greater adoption of Islamic financial services nationwide across different segments. \nThe industry has also seen a steady rise in innovative offerings\, with recent Sukuk issuances and a green energy fund highlighting the adaptability and forwardlooking vision of Pakistan’s Islamic finance industry \nIt is against this backdrop\, that the 11th IFN Pakistan Forum\, supported by the State Bank of Pakistan and other key regulators\, will gather the country’s elite to discuss and debate the important questions facing the Republic’s transition to becoming fully Islamic within just two years. \nIFN Forums 2026\n\n\nIn 2026 we continue to uphold our commitment to organize and deliver bespoke IFN Forums globally in targeted key markets that require interaction and discussion among the industry’s leaders.\n\n\nOur IFN Forums are diverse events which combine panel discussions\, dialogues\, private and targeted networking sessions. Our priority is to ensure that we deliver quality events while achieving the highest desired outcome in Islamic finance excellence. \nIFN Forums allow you to engage with these markets by ensuring a captive audience and outreach to local and global audiences. \nAll IFN Forums will be recorded and posted online within a week of the event. \nDisclaimer:\nIslamic Finance Daily (IFD) strives to list authentic and up-to-date Islamic finance events by sourcing information directly from official websites\, organizers\, and public announcements. While we make reasonable efforts to verify event details at the time of publication\, IFD does not guarantee the accuracy\, completeness\, or timeliness of any event information. \nEvent details such as dates\, times\, venues\, speakers\, pricing\, or formats may change at the discretion of the event organizers without prior notice. Islamic Finance Daily is not responsible for any changes\, cancellations\, postponements\, or losses arising from reliance on the information provided. \nVisitors are strongly advised to conduct their own due diligence and confirm all details directly with the official event organizers before registering\, attending\, or making any financial commitments. \nAll event names\, logos\, banners\, and trademarks remain the property of their respective owners and are used for informational and identification purposes only.
URL:https://islamicfinancedaily.com/events/ifn-pakistan-forum-2026/
LOCATION:JS Auditorium\, IBA City Campus\, Karachi\, KARACHI\, Pakistan
ATTACH;FMTTYPE=image/webp:https://islamicfinancedaily.com/wp-content/uploads/2026/01/IFN-Pakistan-Forum-2026.webp
END:VEVENT
END:VCALENDAR