BEGIN:VCALENDAR
VERSION:2.0
PRODID:-//Islamic Finance Daily - ECPv6.15.17.1//NONSGML v1.0//EN
CALSCALE:GREGORIAN
METHOD:PUBLISH
X-ORIGINAL-URL:https://islamicfinancedaily.com
X-WR-CALDESC:Events for Islamic Finance Daily
REFRESH-INTERVAL;VALUE=DURATION:PT1H
X-Robots-Tag:noindex
X-PUBLISHED-TTL:PT1H
BEGIN:VTIMEZONE
TZID:UTC
BEGIN:STANDARD
TZOFFSETFROM:+0000
TZOFFSETTO:+0000
TZNAME:UTC
DTSTART:20230101T000000
END:STANDARD
END:VTIMEZONE
BEGIN:VEVENT
DTSTART;TZID=UTC:20240428T080000
DTEND;TZID=UTC:20240429T170000
DTSTAMP:20260422T200913
CREATED:20260120T175018Z
LAST-MODIFIED:20260120T175549Z
UID:595-1714291200-1714410000@islamicfinancedaily.com
SUMMARY:AAOIFI 22nd  Annual Shari’ah Boards Conference 2024
DESCRIPTION:AAOIFI 22nd Annual Shari’ah Boards Conference 2024\nThe Accounting and Auditing Organization for Islamic Financial Institutions (AAOIFI)\, supported by the Central Bank of Bahrain will organise the 22nd AAOIFI Annual Shari’ah Boards Conference physically on 19-20 Shawwal 1445 AH corresponding to 28-29 April 2024 at Crowne Plaza Hotel in the Kingdom of Bahrain. The two-day conference will have keynote speeches in addition to a number of panel discussions with renowned Shari’ah scholars\, policymakers\, decision-makers\, leaders and other experts in the Islamic finance industry. The conference will also be aired lived through Zoom and other social media platforms. The annual conference is considered as one of the most important gatherings in the global Islamic finance industry and this year once again\, it is expected to be attended by more than 1000 global stakeholders both physically and virtually. The conference will be officially conducted in Arabic language\, while translation in English and other languages will be available.\n\n\n\n\n\n\nDisclaimer:\nIslamic Finance Daily (IFD) strives to list authentic and up-to-date Islamic finance events by sourcing information directly from official websites\, organizers\, and public announcements. While we make reasonable efforts to verify event details at the time of publication\, IFD does not guarantee the accuracy\, completeness\, or timeliness of any event information. \nEvent details such as dates\, times\, venues\, speakers\, pricing\, or formats may change at the discretion of the event organizers without prior notice. Islamic Finance Daily is not responsible for any changes\, cancellations\, postponements\, or losses arising from reliance on the information provided. \nVisitors are strongly advised to conduct their own due diligence and confirm all details directly with the official event organizers before registering\, attending\, or making any financial commitments. \nAll event names\, logos\, banners\, and trademarks remain the property of their respective owners and are used for informational and identification purposes only.
URL:https://islamicfinancedaily.com/events/aaoifi-22nd-annual-shariah-boards-conference/
LOCATION:Crowne Plaza Hotel\, Kingdom of Bahrain\, Manama\, Bahrain
ATTACH;FMTTYPE=image/webp:https://islamicfinancedaily.com/wp-content/uploads/2026/01/AAOIFI-22nd-Annual-Shariah-Boards-Conference.webp
END:VEVENT
END:VCALENDAR